BEGIN:VCALENDAR
VERSION:2.0
PRODID:-//Formanatura - ECPv6.15.14//NONSGML v1.0//EN
CALSCALE:GREGORIAN
METHOD:PUBLISH
X-WR-CALNAME:Formanatura
X-ORIGINAL-URL:https://studioformanatura.si
X-WR-CALDESC:Dogodki za Formanatura
REFRESH-INTERVAL;VALUE=DURATION:PT1H
X-Robots-Tag:noindex
X-PUBLISHED-TTL:PT1H
BEGIN:VTIMEZONE
TZID:Europe/Ljubljana
BEGIN:DAYLIGHT
TZOFFSETFROM:+0100
TZOFFSETTO:+0200
TZNAME:CEST
DTSTART:20250330T010000
END:DAYLIGHT
BEGIN:STANDARD
TZOFFSETFROM:+0200
TZOFFSETTO:+0100
TZNAME:CET
DTSTART:20251026T010000
END:STANDARD
BEGIN:DAYLIGHT
TZOFFSETFROM:+0100
TZOFFSETTO:+0200
TZNAME:CEST
DTSTART:20260329T010000
END:DAYLIGHT
BEGIN:STANDARD
TZOFFSETFROM:+0200
TZOFFSETTO:+0100
TZNAME:CET
DTSTART:20261025T010000
END:STANDARD
BEGIN:DAYLIGHT
TZOFFSETFROM:+0100
TZOFFSETTO:+0200
TZNAME:CEST
DTSTART:20270328T010000
END:DAYLIGHT
BEGIN:STANDARD
TZOFFSETFROM:+0200
TZOFFSETTO:+0100
TZNAME:CET
DTSTART:20271031T010000
END:STANDARD
END:VTIMEZONE
BEGIN:VEVENT
DTSTART;TZID=Europe/Ljubljana:20260430T120000
DTEND;TZID=Europe/Ljubljana:20260502T120000
DTSTAMP:20260420T145252
CREATED:20260405T165022Z
LAST-MODIFIED:20260405T165022Z
UID:2963-1777550400-1777723200@studioformanatura.si
SUMMARY:ZASEDENO
DESCRIPTION:
URL:https://studioformanatura.si/rezervacije/zasedeno-52/
END:VEVENT
BEGIN:VEVENT
DTSTART;TZID=Europe/Ljubljana:20260515T120000
DTEND;TZID=Europe/Ljubljana:20260517T120000
DTSTAMP:20260420T145252
CREATED:20260325T070814Z
LAST-MODIFIED:20260325T070814Z
UID:2956-1778846400-1779019200@studioformanatura.si
SUMMARY:ZASEDENO
DESCRIPTION:
URL:https://studioformanatura.si/rezervacije/zasedeno-49/
END:VEVENT
BEGIN:VEVENT
DTSTART;TZID=Europe/Ljubljana:20260528T120000
DTEND;TZID=Europe/Ljubljana:20260530T120000
DTSTAMP:20260420T145252
CREATED:20260210T125250Z
LAST-MODIFIED:20260210T125250Z
UID:2950-1779969600-1780142400@studioformanatura.si
SUMMARY:ZASEDENO
DESCRIPTION:
URL:https://studioformanatura.si/rezervacije/zasedeno-47/
END:VEVENT
END:VCALENDAR